BEGIN:VCALENDAR
VERSION:2.0
PRODID:spatie/icalendar-generator
DESCRIPTION:Veranstaltungen von TSV Wöschbach 1907 e.V. - badisch - famili
 är - sympathisch
X-WR-CALDESC:Veranstaltungen von TSV Wöschbach 1907 e.V. - badisch - famil
 iär - sympathisch
REFRESH-INTERVAL;VALUE=DURATION:PT1440M
X-PUBLISHED-TTL:PT1440M
BEGIN:VTIMEZONE
TZID:Europe/Berlin
BEGIN:STANDARD
DTSTART:20241027T030000Z
TZOFFSETFROM:+0200
TZOFFSETTO:+0100
END:STANDARD
BEGIN:DAYLIGHT
DTSTART:20250330T020000Z
TZOFFSETFROM:+0100
TZOFFSETTO:+0200
END:DAYLIGHT
BEGIN:STANDARD
DTSTART:20251026T030000Z
TZOFFSETFROM:+0200
TZOFFSETTO:+0100
END:STANDARD
END:VTIMEZONE
BEGIN:VTIMEZONE
TZID:UTC
BEGIN:STANDARD
DTSTART:20250724T101240Z
TZOFFSETFROM:+0000
TZOFFSETTO:+0000
END:STANDARD
END:VTIMEZONE
BEGIN:VEVENT
UID:1130-100
DTSTAMP:20260420T101240Z
SUMMARY:Schockturnier
LOCATION:TSV Wöschbach 07 e.V. Bruchwiesen  Pfinztal  76327
ORGANIZER;CN=Sven Festag:MAILTO:sven@festag.de
DTSTART;TZID=Europe/Berlin:20250426T150000
DTEND;TZID=Europe/Berlin:20250426T210000
X-ALT-DESC;FMTTYPE=TEXT/HTML:Schockturnier beim TSV Wöschbach Ort: Clubhau
 s TSV Wöschbach Termin: 26.04.2025 / Start 15:00 Uhr Startgebühr: 10\,00
  € Zusätzlich werden auch die Spiele der Bundesligakonferenz gezeigt. B
 echer und Würfel sind nur in begrenzter Anzahl vorhanden\, also gerne mit
 bringen. Die Startgebühr wird komplett an die Sieger ausgeschüttet. Wir 
 freuen uns auf Euer Kommen!
CATEGORIES:Event
URL;VALUE=URI:https://tsvwoeschbach.de/mc-events/schockturnier-2/
METHOD:PUBLISH
END:VEVENT
END:VCALENDAR